BEGIN:VCALENDAR
VERSION:2.0
PRODID:-//ChamberMaster//Event Calendar 2.0//EN
METHOD:PUBLISH
X-PUBLISHED-TTL:P3D
REFRESH-INTERVAL:P3D
CALSCALE:GREGORIAN
BEGIN:VEVENT
DTSTART;VALUE=DATE:20260424
DTEND;VALUE=DATE:20260428
TRANSP:TRANSPARENT
X-MICROSOFT-CDO-ALLDAYEVENT:TRUE
SUMMARY:SLUMBERLAND FRIENDS & FAMILY
DESCRIPTION:This sale at slumberland only happens once a year! Its a huge sale with our deepest discounts and 1/2 off full service delivery.
X-ALT-DESC;FMTTYPE=text/html:This sale at slumberland only happens once a year! Its a huge sale with our deepest discounts and 1/2 off full service delivery.
LOCATION:1423 3rd Avenue International Falls MN 56649
UID:e.10.6515
SEQUENCE:3
DTSTAMP:20260421T184326Z
URL:https://business.ifallschamber.com/events/details/slumberland-friends-family-6515
END:VEVENT

END:VCALENDAR
